BEGIN:VCALENDAR
VERSION:2.0
PRODID:-//Dallas Institute of Funeral Service - ECPv6.15.20//NONSGML v1.0//EN
CALSCALE:GREGORIAN
METHOD:PUBLISH
X-ORIGINAL-URL:https://dallasinstitute.edu
X-WR-CALDESC:Events for Dallas Institute of Funeral Service
REFRESH-INTERVAL;VALUE=DURATION:PT1H
X-Robots-Tag:noindex
X-PUBLISHED-TTL:PT1H
BEGIN:VTIMEZONE
TZID:America/Indiana/Indianapolis
BEGIN:DAYLIGHT
TZOFFSETFROM:-0500
TZOFFSETTO:-0400
TZNAME:EDT
DTSTART:20240310T070000
END:DAYLIGHT
BEGIN:STANDARD
TZOFFSETFROM:-0400
TZOFFSETTO:-0500
TZNAME:EST
DTSTART:20241103T060000
END:STANDARD
BEGIN:DAYLIGHT
TZOFFSETFROM:-0500
TZOFFSETTO:-0400
TZNAME:EDT
DTSTART:20250309T070000
END:DAYLIGHT
BEGIN:STANDARD
TZOFFSETFROM:-0400
TZOFFSETTO:-0500
TZNAME:EST
DTSTART:20251102T060000
END:STANDARD
BEGIN:DAYLIGHT
TZOFFSETFROM:-0500
TZOFFSETTO:-0400
TZNAME:EDT
DTSTART:20260308T070000
END:DAYLIGHT
BEGIN:STANDARD
TZOFFSETFROM:-0400
TZOFFSETTO:-0500
TZNAME:EST
DTSTART:20261101T060000
END:STANDARD
BEGIN:DAYLIGHT
TZOFFSETFROM:-0500
TZOFFSETTO:-0400
TZNAME:EDT
DTSTART:20270314T070000
END:DAYLIGHT
BEGIN:STANDARD
TZOFFSETFROM:-0400
TZOFFSETTO:-0500
TZNAME:EST
DTSTART:20271107T060000
END:STANDARD
END:VTIMEZONE
BEGIN:VEVENT
DTSTART;VALUE=DATE:20251222
DTEND;VALUE=DATE:20260104
DTSTAMP:20260421T124327
CREATED:20250114T145239Z
LAST-MODIFIED:20250114T145239Z
UID:10000358-1766365200-1767401999@dallasinstitute.edu
SUMMARY:Quarter Break - No Classes
DESCRIPTION:
URL:https://dallasinstitute.edu/event/quarter-break-no-classes-4/
CATEGORIES:Academic Calendar
END:VEVENT
BEGIN:VEVENT
DTSTART;VALUE=DATE:20260101
DTEND;VALUE=DATE:20260103
DTSTAMP:20260421T124327
CREATED:20250501T171317Z
LAST-MODIFIED:20250825T134758Z
UID:10000473-1767229200-1767315599@dallasinstitute.edu
SUMMARY:New Years Day Holiday - College Closed
DESCRIPTION:
URL:https://dallasinstitute.edu/event/new-years-day-holiday-college-2026/
CATEGORIES:Academic Calendar
END:VEVENT
BEGIN:VEVENT
DTSTART;VALUE=DATE:20260105
DTEND;VALUE=DATE:20260107
DTSTAMP:20260421T124327
CREATED:20250822T180200Z
LAST-MODIFIED:20250822T180200Z
UID:10000385-1767574800-1767661199@dallasinstitute.edu
SUMMARY:Winter Quarter Begins
DESCRIPTION:
URL:https://dallasinstitute.edu/event/winter-quarter-begins-2/
END:VEVENT
BEGIN:VEVENT
DTSTART;VALUE=DATE:20260105
DTEND;VALUE=DATE:20260107
DTSTAMP:20260421T124327
CREATED:20250822T180200Z
LAST-MODIFIED:20250822T180200Z
UID:10000386-1767574800-1767661199@dallasinstitute.edu
SUMMARY:Winter Quarter First Day of Classes
DESCRIPTION:
URL:https://dallasinstitute.edu/event/winter-quarter-first-day-of-classes-2/
END:VEVENT
BEGIN:VEVENT
DTSTART;VALUE=DATE:20260105
DTEND;VALUE=DATE:20260107
DTSTAMP:20260421T124327
CREATED:20250822T180200Z
LAST-MODIFIED:20250822T180200Z
UID:10000387-1767574800-1767661199@dallasinstitute.edu
SUMMARY:Tuition Due
DESCRIPTION:
URL:https://dallasinstitute.edu/event/tuition-due-5/
END:VEVENT
BEGIN:VEVENT
DTSTART;VALUE=DATE:20260105
DTEND;VALUE=DATE:20260107
DTSTAMP:20260421T124327
CREATED:20250822T180202Z
LAST-MODIFIED:20250822T180202Z
UID:10000388-1767574800-1767661199@dallasinstitute.edu
SUMMARY:First Installment of TIP Due
DESCRIPTION:
URL:https://dallasinstitute.edu/event/first-installment-of-tip-due-5/
END:VEVENT
BEGIN:VEVENT
DTSTART;VALUE=DATE:20260105
DTEND;VALUE=DATE:20260113
DTSTAMP:20260421T124327
CREATED:20250822T180202Z
LAST-MODIFIED:20250822T180202Z
UID:10000389-1767574800-1768179599@dallasinstitute.edu
SUMMARY:Add/Drop Period
DESCRIPTION:
URL:https://dallasinstitute.edu/event/add-drop-period-5/
END:VEVENT
BEGIN:VEVENT
DTSTART;VALUE=DATE:20260111
DTEND;VALUE=DATE:20260113
DTSTAMP:20260421T124327
CREATED:20250822T180202Z
LAST-MODIFIED:20250822T180202Z
UID:10000390-1768093200-1768179599@dallasinstitute.edu
SUMMARY:Last Day to Withdraw with Full Refund of Tuition
DESCRIPTION:
URL:https://dallasinstitute.edu/event/last-day-to-withdraw-with-full-refund-of-tuition-5/
END:VEVENT
BEGIN:VEVENT
DTSTART;VALUE=DATE:20260119
DTEND;VALUE=DATE:20260121
DTSTAMP:20260421T124327
CREATED:20250822T180202Z
LAST-MODIFIED:20250822T180202Z
UID:10000391-1768784400-1768870799@dallasinstitute.edu
SUMMARY:Martin Luther King\, Jr. Holiday - College Closed
DESCRIPTION:
URL:https://dallasinstitute.edu/event/martin-luther-king-jr-holiday-college-closed-2/
END:VEVENT
END:VCALENDAR